BEGIN:VCALENDAR
VERSION:2.0
CALSCALE:GREGORIAN
METHOD:PUBLISH
PRODID://OPTL//515445
BEGIN:VEVENT
DTSTAMP:20260421T074903
VTIMEZONE:America/Chicago
DTSTART:20260507T230000Z
DTEND:20260508T003000Z
UID:515445
SUMMARY:Southwest Society Dinner & CE Meeting
LOCATION:PATS OF HENDERSON, 1500 SIEBARTH DRIVE, LAKE CHARLES, LA, 70601
DESCRIPTION:Southwest Society Dinner & CE Meeting\n\n05/07/26 06:00 PM CST\n - 05/07/26 07:30 PM CST\Description:\nEYE HEALTH AND THE IMPORTANCE OF LID EXAMINATION\n\nDISCUSSION OF ABOVE TITLE BY JANELLE DAVISON OD OF VISIONARY DRY INSTITUTE OF MARRIETTA, GA\n\nSPONSORED BY TARSUS\nREP CHRISTINA SALOOM\n\n1 hr of general CE will be provided for attendees and an OAL meeting / update will follow the presentation.  Please RSVP using the link attached in this message.\n\nI hope to see you there,\n\nMel Gehrig\nOAL SW Society President \n\n \Location:\nPATS OF HENDERSON\n1500 SIEBARTH DRIVE\nLAKE CHARLES, LA 70601
X-ALT-DESC;FMTTYPE=text/html:Southwest Society Dinner & CE Meeting<br /><br />05/07/26 06:00 PM CST - 05/07/26 07:30 PM CST<br />Description:<br />EYE HEALTH AND THE IMPORTANCE OF LID EXAMINATION<br />
<br />
DISCUSSION OF ABOVE TITLE BY JANELLE DAVISON OD OF VISIONARY DRY INSTITUTE&nbsp;OF MARRIETTA, GA<br />
<br />
SPONSORED BY TARSUS<br />
REP CHRISTINA SALOOM<br />
<br />
1 hr of general CE will be provided for attendees and an OAL meeting / update will follow the presentation.&nbsp; Please RSVP using the link attached in this message.<br />
<br />
I hope to see you there,<br />
<br />
Mel Gehrig<br />
OAL SW Society President&nbsp;<br />
<br />
&nbsp;<br />Location:<br />PATS OF HENDERSON<br />1500 SIEBARTH DRIVE<br />LAKE CHARLES, LA 70601
PRIORITY:3
TRANSP:TRANSPARENT
BEGIN:VALARM
TRIGGER:-PT5M
ACTION:DISPLAY
DESCRIPTION:Reminder
END:VALARM
END:VEVENT
END:VCALENDAR
