BEGIN:VCALENDAR
VERSION:2.0
CALSCALE:GREGORIAN
METHOD:PUBLISH
PRODID://OPTL//494265
BEGIN:VEVENT
DTSTAMP:20260422T200508
VTIMEZONE:America/Chicago
DTSTART:20260318T224500Z
DTEND:20260319T010000Z
UID:494265
SUMMARY:OAL Northwest Society Meeting
LOCATION:Mabry House, 1540 Irving Place, Shreveport, LA, 71101
DESCRIPTION:OAL Northwest Society Meeting\n\n03/18/26 05:45 PM CST\n - 03/18/26 08:00 PM CST\Description:\nOAL NW Society Meeting\n\nActhar will sponsor our meeting with a presentation by Paul Karpecki, OD. Acthar Gel for the Treatment of Patients with Severy Inflammatory Disorders of the Anterior Segment of the Eye.  1 hour general CE Credit may be obtained for attendees.   Presentation will be followed by OAL updates.\n\nPlease RSVP Y or N using the link attached in this message.  I hope to see you there!\n\n\nChristine Pastilong, OD\nNorthwest Society Chair\n \Location:\nMabry House\n1540 Irving Place\nShreveport, LA 71101
X-ALT-DESC;FMTTYPE=text/html:OAL Northwest Society Meeting<br /><br />03/18/26 05:45 PM CST - 03/18/26 08:00 PM CST<br />Description:<br />OAL NW Society Meeting<br />
<br />
Acthar will sponsor our meeting with a presentation by Paul Karpecki, OD.&nbsp;<em>Acthar Gel for the Treatment of Patients with Severy Inflammatory Disorders of the Anterior Segment of the Eye</em>.&nbsp; 1 hour general CE Credit may be obtained for attendees.&nbsp; &nbsp;Presentation will be followed by OAL updates.<br />
<br />
Please RSVP Y or N using the link attached in this message.&nbsp; I hope to see you there!<br />
<br />
<br />
Christine Pastilong, OD<br />
Northwest Society Chair<br />
&nbsp;<br />Location:<br />Mabry House<br />1540 Irving Place<br />Shreveport, LA 71101
PRIORITY:3
TRANSP:TRANSPARENT
BEGIN:VALARM
TRIGGER:-PT5M
ACTION:DISPLAY
DESCRIPTION:Reminder
END:VALARM
END:VEVENT
END:VCALENDAR
