BEGIN:VCALENDAR
VERSION:2.0
CALSCALE:GREGORIAN
METHOD:PUBLISH
PRODID://OPTL//475311
BEGIN:VEVENT
DTSTAMP:20260422T195831
VTIMEZONE:America/Chicago
DTSTART:20260130T000000Z
DTEND:20260130T023000Z
UID:475311
SUMMARY:Acadiana Society Dinner Meeting
LOCATION:Superior Grill , 2320 Kaliste Saloom Rd, Lafayette, LA, 70508
DESCRIPTION:Acadiana Society Dinner Meeting\n\n01/29/26 06:00 PM CST\n - 01/29/26 08:30 PM CST\Description:\nPlease join us for our first Society meeting of the year!\n\nAcadiana Society Dinner \nSponsored by Optos:  Discussing the most up-to-date clinical data and reviewing the new additions to the product line-up.  NOTE:  This meeting will not be available for CE Credit, just good food, great information, and better company!\nJanuary 29, 2026 @ 6pm CST\nSuperior Grill Lafayette, LA \n\nPlease RSVP Y or N using this link attached in this message.\n\nI hope to see you all there!\n\n\nJennifer Tate-Brasseaux\nAcadiana Society President\n\n\n\n \Location:\nSuperior Grill \n2320 Kaliste Saloom Rd\nLafayette, LA 70508
X-ALT-DESC;FMTTYPE=text/html:Acadiana Society Dinner Meeting<br /><br />01/29/26 06:00 PM CST - 01/29/26 08:30 PM CST<br />Description:<br />Please join us for our first Society meeting of the year!<br />
<br />
Acadiana Society Dinner&nbsp;<br />
Sponsored by Optos:&nbsp;&nbsp;Discussing the most up-to-date clinical data and reviewing the new additions to the product line-up.&nbsp; NOTE:&nbsp; This meeting will not be available for CE Credit, just good food, great information, and better company!<br />
January 29, 2026 @ 6pm CST<br />
Superior Grill Lafayette, LA&nbsp;<br />
<br />
Please RSVP Y or N using this link attached in this message.<br />
<br />
I hope to see you all there!<br />
<br />
<br />
Jennifer Tate-Brasseaux<br />
Acadiana Society President<br />
<br />
<br />
<br />
&nbsp;<br />Location:<br />Superior Grill <br />2320 Kaliste Saloom Rd<br />Lafayette, LA 70508
PRIORITY:3
TRANSP:TRANSPARENT
BEGIN:VALARM
TRIGGER:-PT5M
ACTION:DISPLAY
DESCRIPTION:Reminder
END:VALARM
END:VEVENT
END:VCALENDAR
