BEGIN:VCALENDAR
VERSION:2.0
CALSCALE:GREGORIAN
METHOD:PUBLISH
PRODID://OPTL//467296
BEGIN:VEVENT
DTSTAMP:20260422T182346
VTIMEZONE:America/Chicago
DTSTART:20251204T000000Z
DTEND:20251204T023000Z
UID:467296
SUMMARY:New Orleans Society December End of Year Meeting
LOCATION:Desi Vega's Seafood and Prime Steaks, 111 Veterans Memorial Blvd, Metairie, LA, 70005
DESCRIPTION:New Orleans Society December End of Year Meeting\n\n12/03/25 06:00 PM CST\n - 12/03/25 08:30 PM CST\Description:\nPlease join us for one more meeting this year to close out 2025. Thanks to our sponsor  LENZ Therapeutics with VIZZ, we will be having one last meeting in 2025. There is no CE credit for this meeting, however please join us to learn about this new medication and for updated OAL news. Dinner will be held at Desi Vega in Metairie on December 3rd, 2025 at 6:00pm with meeting starting at 6:30pm.  PLEASE RSVP Y OR N BY USING THE LINK ATTACHED TO THIS MESSAGE.\n\nI hope to see you all there!  \n\nKatie Casadaban-Hale\nNOLA Society President\Location:\nDesi Vega's Seafood and Prime Steaks\n111 Veterans Memorial Blvd\nMetairie, LA 70005
X-ALT-DESC;FMTTYPE=text/html:New Orleans Society December End of Year Meeting<br /><br />12/03/25 06:00 PM CST - 12/03/25 08:30 PM CST<br />Description:<br />Please join us for one more meeting this year to close out 2025. Thanks to our sponsor &nbsp;LENZ Therapeutics with VIZZ, we will be having one last meeting in 2025. There is no CE credit for this meeting, however please join us to learn about this new medication and for updated OAL news. Dinner will be held at Desi Vega in Metairie on December 3rd, 2025 at 6:00pm with meeting starting at 6:30pm.&nbsp; PLEASE RSVP Y OR N BY USING THE LINK ATTACHED TO THIS MESSAGE.<br />
<br />
I hope to see you all there! &nbsp;<br />
<br />
Katie Casadaban-Hale<br />
NOLA Society President<br />Location:<br />Desi Vega's Seafood and Prime Steaks<br />111 Veterans Memorial Blvd<br />Metairie, LA 70005
PRIORITY:3
TRANSP:TRANSPARENT
BEGIN:VALARM
TRIGGER:-PT5M
ACTION:DISPLAY
DESCRIPTION:Reminder
END:VALARM
END:VEVENT
END:VCALENDAR
