BEGIN:VCALENDAR
VERSION:2.0
CALSCALE:GREGORIAN
METHOD:PUBLISH
PRODID://OPTL//464880
BEGIN:VEVENT
DTSTAMP:20260422T232907
VTIMEZONE:America/Chicago
DTSTART:20251121T000000Z
DTEND:20251121T020000Z
UID:464880
SUMMARY:Northeast Society Meeting
LOCATION:Warehouse No. 1, 1 Olive Street, Monroe, LA, 71201
DESCRIPTION:Northeast Society Meeting\n\n11/20/25 06:00 PM CST\n - 11/20/25 08:00 PM CST\Description:\nPlease join us at our upcoming OAL Northeast Society meeting at Warehouse No. 1 for dinner and a speaker program sponsored by Sun Pharmaceuticals (Cequa). Thanks to our local sales rep, Stephanie Hanes, Louisiana's very own Dr. Pam Theriot will be joining us to talk about the benefits of Cequa and how it could impact our patients and practices!  Attendees may earn 1h of CE credit.  After the dinner program, we will have a brief society meeting.\n\nPlease RSVP Y or N using the link attached in this message.\n\nI hope to see you there!\n\nBrad Anders, OD\nOAL NE Society President\n\n \Location:\nWarehouse No. 1\n1 Olive Street\nMonroe, LA 71201
X-ALT-DESC;FMTTYPE=text/html:Northeast Society Meeting<br /><br />11/20/25 06:00 PM CST - 11/20/25 08:00 PM CST<br />Description:<br />Please join us at our upcoming OAL Northeast Society meeting at Warehouse No. 1 for dinner and a speaker program sponsored by Sun Pharmaceuticals (Cequa). Thanks to our local sales rep, Stephanie Hanes, Louisiana's very own Dr. Pam Theriot will be joining us to talk about the benefits of Cequa and how it could impact our patients and practices!&nbsp; Attendees may earn 1h of CE credit.&nbsp; After the dinner program, we will have a brief society meeting.<br />
<br />
Please RSVP Y or N using the link attached in this message.<br />
<br />
I hope to see you there!<br />
<br />
Brad Anders, OD<br />
OAL NE Society President<br />
<br />
&nbsp;<br />Location:<br />Warehouse No. 1<br />1 Olive Street<br />Monroe, LA 71201
PRIORITY:3
TRANSP:TRANSPARENT
BEGIN:VALARM
TRIGGER:-PT5M
ACTION:DISPLAY
DESCRIPTION:Reminder
END:VALARM
END:VEVENT
END:VCALENDAR
