BEGIN:VCALENDAR
VERSION:2.0
CALSCALE:GREGORIAN
METHOD:PUBLISH
PRODID://OPTL//460559
BEGIN:VEVENT
DTSTAMP:20260423T023912
VTIMEZONE:America/Chicago
DTSTART:20251107T000000Z
DTEND:20251107T020000Z
UID:460559
SUMMARY:NW OAL Society Meeting
LOCATION:Earnest's New Orleans Restuarant, 1601 Spring Street, Shreveport, LA, 71101
DESCRIPTION:NW OAL Society Meeting\n\n11/06/25 06:00 PM CST\n - 11/06/25 08:00 PM CST\Description:\nPlease join us in welcoming our guest speaker, Dr. Ben Gaddie, sponsored by Tarsus. The evening will begin with dinner and presentation followed by an NW OAL Society meeting.  Attendees will earn 1h or non TPA CE Credit.  \n\nPlease RSVP Y or N if you will attend, using the link attached with this message.  \n\nI hope to see you there!\n\nChristine Pastilong, OD\nNW Society President\Location:\nEarnest's New Orleans Restuarant\n1601 Spring Street\nShreveport, LA 71101
X-ALT-DESC;FMTTYPE=text/html:NW OAL Society Meeting<br /><br />11/06/25 06:00 PM CST - 11/06/25 08:00 PM CST<br />Description:<br />Please join us in welcoming our guest speaker, Dr. Ben Gaddie, sponsored by Tarsus. The evening will begin with dinner and presentation followed by an NW OAL Society meeting.&nbsp; Attendees will earn 1h or non TPA CE Credit.&nbsp;&nbsp;<br />
<br />
Please RSVP Y or N if you will attend, using the link attached with this message.&nbsp;&nbsp;<br />
<br />
I hope to see you there!<br />
<br />
Christine Pastilong, OD<br />
NW Society President<br />Location:<br />Earnest's New Orleans Restuarant<br />1601 Spring Street<br />Shreveport, LA 71101
PRIORITY:3
TRANSP:TRANSPARENT
BEGIN:VALARM
TRIGGER:-PT5M
ACTION:DISPLAY
DESCRIPTION:Reminder
END:VALARM
END:VEVENT
END:VCALENDAR
